BEGIN:VCALENDAR
VERSION:2.0
PRODID:-//Fanfare Helden - ECPv6.15.17.1//NONSGML v1.0//EN
CALSCALE:GREGORIAN
METHOD:PUBLISH
X-WR-CALNAME:Fanfare Helden
X-ORIGINAL-URL:https://www.fanfarehelden.nl
X-WR-CALDESC:Evenementen voor Fanfare Helden
REFRESH-INTERVAL;VALUE=DURATION:PT1H
X-Robots-Tag:noindex
X-PUBLISHED-TTL:PT1H
BEGIN:VTIMEZONE
TZID:Europe/Amsterdam
BEGIN:DAYLIGHT
TZOFFSETFROM:+0100
TZOFFSETTO:+0200
TZNAME:CEST
DTSTART:20250330T010000
END:DAYLIGHT
BEGIN:STANDARD
TZOFFSETFROM:+0200
TZOFFSETTO:+0100
TZNAME:CET
DTSTART:20251026T010000
END:STANDARD
BEGIN:DAYLIGHT
TZOFFSETFROM:+0100
TZOFFSETTO:+0200
TZNAME:CEST
DTSTART:20260329T010000
END:DAYLIGHT
BEGIN:STANDARD
TZOFFSETFROM:+0200
TZOFFSETTO:+0100
TZNAME:CET
DTSTART:20261025T010000
END:STANDARD
BEGIN:DAYLIGHT
TZOFFSETFROM:+0100
TZOFFSETTO:+0200
TZNAME:CEST
DTSTART:20270328T010000
END:DAYLIGHT
BEGIN:STANDARD
TZOFFSETFROM:+0200
TZOFFSETTO:+0100
TZNAME:CET
DTSTART:20271031T010000
END:STANDARD
END:VTIMEZONE
BEGIN:VTIMEZONE
TZID:UTC
BEGIN:STANDARD
TZOFFSETFROM:+0000
TZOFFSETTO:+0000
TZNAME:UTC
DTSTART:20250101T000000
END:STANDARD
END:VTIMEZONE
BEGIN:VEVENT
DTSTART;VALUE=DATE:20260425
DTEND;VALUE=DATE:20260426
DTSTAMP:20260422T122324
CREATED:20260222T143231Z
LAST-MODIFIED:20260411T154214Z
UID:4253-1777075200-1777161599@www.fanfarehelden.nl
SUMMARY:Open Peel en Maas Solistenconcours
DESCRIPTION:Op zaterdag 25 april 2026 zal het Open Peel en Maas Solistenconcours voor solisten en ensembles worden gehouden in Gemeenschapshuis De Paort in Kessel (Markt 2). \nHelaas gaat het solistenconcours niet door \n 
URL:https://www.fanfarehelden.nl/event/open-peel-en-maas-solistenconcours/
LOCATION:Gemeenschapshuis De Paort\, Kessel\, Markt 2\, Kessel\, Limburg\, 5995 BB\, Netherlands
ATTACH;FMTTYPE=image/png:https://www.fanfarehelden.nl/wp-content/uploads/2026/02/Logo-Solistenconcours.png
ORGANIZER;CN="Open Peel en Maas Solistenconcours":MAILTO:ilze@6op6.nl
END:VEVENT
BEGIN:VEVENT
DTSTART;TZID=Europe/Amsterdam:20260502T180000
DTEND;TZID=Europe/Amsterdam:20260502T233000
DTSTAMP:20260422T122324
CREATED:20260411T154728Z
LAST-MODIFIED:20260411T172756Z
UID:4474-1777744800-1777764600@www.fanfarehelden.nl
SUMMARY:Aspergeavond
DESCRIPTION:Genieten van lokale asperges \n\n\n\nDat kan op zaterdagavond 2 mei in het Kerkeböske in Helden.\nFanfare St. Cecilia organiseert dan haar jaarlijkse aspergeavond.\nLeden van de vereniging zorgen voor een heerlijk 5 gangen asperge menu.\n\n\n\nKom gezellig een avondje uit met buren\, kaartclub\, vriendengroep\, koorleden\, muzikanten\, familieleden of kennissen om samen te genieten van verse asperges uit Peel en Maas. Hiermee steunt u onze vereniging\, waarvoor wij u hartelijk danken.\n\n\n\nMis deze gezellige avond niet en meld je aan via : acties@fanfarehelden.nl\, of bel/app 06-12898874.\n\n\nGraag tot ziens op zaterdagavond 2 mei om 18.30 uur in het Kerkeböske in Helden.\n\n\n\nVoor meer informatie zie de flyer.
URL:https://www.fanfarehelden.nl/event/aspergeavond/
LOCATION:Multifunctioneel Centrum Kerkeböske\, Helden\, Aan de Koeberg 3\, Helden
ATTACH;FMTTYPE=image/png:https://www.fanfarehelden.nl/wp-content/uploads/2026/04/Asperge-avond-2026-VK.png
END:VEVENT
BEGIN:VEVENT
DTSTART;VALUE=DATE:20260606
DTEND;VALUE=DATE:20260607
DTSTAMP:20260422T122324
CREATED:20260225T153846Z
LAST-MODIFIED:20260302T231841Z
UID:4347-1780704000-1780790399@www.fanfarehelden.nl
SUMMARY:Uitwisselingsconcert
DESCRIPTION:Harmonie Crescendo Beegden en Fanfare St. Cecilia verzorgen samen een mooie muzikale avond. Voor de fanfare is dit de try-out voor de deelname aan het Peeltoernooi later deze maand. \nTijdstip volgt.
URL:https://www.fanfarehelden.nl/event/uitwisselingsconcert/
LOCATION:Multifunctioneel Centrum Kerkeböske\, Helden\, Aan de Koeberg 3\, Helden
ATTACH;FMTTYPE=image/jpeg:https://www.fanfarehelden.nl/wp-content/uploads/2026/02/Concert-KB-scaled.jpg
END:VEVENT
BEGIN:VEVENT
DTSTART;VALUE=DATE:20260621
DTEND;VALUE=DATE:20260622
DTSTAMP:20260422T122324
CREATED:20251205T133009Z
LAST-MODIFIED:20260302T233703Z
UID:3984-1782000000-1782086399@www.fanfarehelden.nl
SUMMARY:Peeltoernooi
DESCRIPTION:Op zondag 21 juni 2026 neemt de fanfare deel aan het Peeltoernooi. Ze komt bij dit concert uit in de 3e divisie en zal de volgende werken ten gehore brengen: \nElsa’s Procession van Richard Wagner – arr. Huub Mestrom\nKaleidoscope van Philip Sparke\nHertog Jan Rapsodie van Robert Theeuwen \nHet optreden van de fanfare staat gepland om 11:30 uur \nhttp://www.peeltoernooi.nl \n 
URL:https://www.fanfarehelden.nl/event/peeltoernooi/
LOCATION:Gemeenschapshuis D’n Binger\, Meijel\, Alexanderplein 2\, Meijel\, 5768 BE
ATTACH;FMTTYPE=image/jpeg:https://www.fanfarehelden.nl/wp-content/uploads/2026/03/Najaar-2024-scaled.jpg
END:VEVENT
BEGIN:VEVENT
DTSTART;VALUE=DATE:20260706
DTEND;VALUE=DATE:20260707
DTSTAMP:20260422T122324
CREATED:20260302T234257Z
LAST-MODIFIED:20260302T235530Z
UID:4408-1783296000-1783382399@www.fanfarehelden.nl
SUMMARY:Concert aan de Koeberg
DESCRIPTION:Maandagavond 6 juli wordt traditiegetrouw de zomervakantie muzikaal ingeluid door het Concert aan de Koeberg.\nEen luchtig concert waarbij alle geledingen van de vereniging van zich zullen laten horen. \nHet concert begint om 19:30 uur en als de weergoden ons goedgezind zijn dan vindt het concert buiten plaats op de parkeerplaats van Kerkeböske. \n 
URL:https://www.fanfarehelden.nl/event/concert-aan-de-koeberg/
LOCATION:Multifunctioneel Centrum Kerkeböske\, Helden\, Aan de Koeberg 3\, Helden
ATTACH;FMTTYPE=image/jpeg:https://www.fanfarehelden.nl/wp-content/uploads/2026/03/Koeberg-2025_1-scaled.jpg
END:VEVENT
END:VCALENDAR